BEGIN:VCALENDAR
METHOD:PUBLISH
PRODID:-//Weblication CMS
VERSION:2.0
BEGIN:VEVENT
SUMMARY:2. Anlass zum Thema Baustelle Pubertät
DTSTART:20191022T190000
DTEND:20191022T203000
DESCRIPTION:Wie gelingt eine gesunde Bindung zu einem Teenager? Diese Frage stellen sich viele Eltern. Bei der 2. Veranstaltung der Reihe "Reinach redet" zum Thema "Baustelle Pubertät" am 22. Oktober 2019 im Gemeindesaal stand der Beziehungsalltag im Fokus.
LOCATION:Gemeindesaal, Gemeindehaus
UID:https://www.reinach-bl.ch/reinach-redet/veranstaltungen/termine/2.-Anlass-Pubertaet.php
URL:https://www.reinach-bl.ch/reinach-redet/veranstaltungen/termine/2.-Anlass-Pubertaet.php
END:VEVENT
END:VCALENDAR