BEGIN:VCALENDAR
VERSION:2.0
PRODID:-//www.reinach-bl.ch//NONSGML kigkonsult.se iCalcreator 2.22//
CALSCALE:GREGORIAN
METHOD:PUBLISH
X-WR-TIMEZONE:Europe/Berlin
BEGIN:VEVENT
UID:20260421T114633CEST-8836VMT17U@www.reinach-bl.ch
DTSTAMP:20260421T094633Z
DESCRIPTION:Klicken Sie auf den folgenden Link\, um weitere Informationen z
 ur Veranstaltung zu erhalten:\nhttp://www.reinach-bl.ch/de/veranstaltungen
 /detail/detail.php?i=11023
DTSTART:20260724T190000
DTEND:20260725T000000
LOCATION:
SUMMARY:Jodlerchilbi
END:VEVENT
END:VCALENDAR
