BEGIN:VCALENDAR
VERSION:2.0
PRODID:-//www.reinach-bl.ch//NONSGML kigkonsult.se iCalcreator 2.22//
CALSCALE:GREGORIAN
METHOD:PUBLISH
X-WR-TIMEZONE:Europe/Berlin
BEGIN:VEVENT
UID:20260420T154741CEST-0993rafI6x@www.reinach-bl.ch
DTSTAMP:20260420T134741Z
DESCRIPTION:Klicken Sie auf den folgenden Link\, um weitere Informationen z
 ur Veranstaltung zu erhalten:\nhttp://www.reinach-bl.ch/de/veranstaltungen
 /detail/detail.php?i=11021
DTSTART:20260423T190000
DTEND:20260423T230000
LOCATION:
SUMMARY:Reinach redet
END:VEVENT
END:VCALENDAR
