BEGIN:VCALENDAR
VERSION:2.0
PRODID:-//www.reinach-bl.ch//NONSGML kigkonsult.se iCalcreator 2.22//
CALSCALE:GREGORIAN
METHOD:PUBLISH
X-WR-TIMEZONE:Europe/Berlin
BEGIN:VEVENT
UID:20260421T114634CEST-2624WFjvtd@www.reinach-bl.ch
DTSTAMP:20260421T094634Z
DESCRIPTION:Klicken Sie auf den folgenden Link\, um weitere Informationen z
 ur Veranstaltung zu erhalten:\nhttp://www.reinach-bl.ch/de/veranstaltungen
 /detail/detail.php?i=11020
DTSTART:20260530T090000
DTEND:20260530T160000
LOCATION:
SUMMARY:Flohmärt Ski-Club Reinach BL
END:VEVENT
END:VCALENDAR
