BEGIN:VCALENDAR
VERSION:2.0
PRODID:-//www.reinach-bl.ch//NONSGML kigkonsult.se iCalcreator 2.22//
CALSCALE:GREGORIAN
METHOD:PUBLISH
X-WR-TIMEZONE:Europe/Berlin
BEGIN:VEVENT
UID:20260422T205048CEST-1987ea4Xo3@www.reinach-bl.ch
DTSTAMP:20260422T185048Z
DESCRIPTION:Klicken Sie auf den folgenden Link\, um weitere Informationen z
 ur Veranstaltung zu erhalten:\nhttp://www.reinach-bl.ch/de/veranstaltungen
 /detail/detail.php?i=10924
DTSTART:20261027T100000
DTEND:20261027T200000
LOCATION:
SUMMARY:Wildsträuchermarkt
END:VEVENT
END:VCALENDAR
