BEGIN:VCALENDAR
VERSION:2.0
PRODID:-//www.reinach-bl.ch//NONSGML kigkonsult.se iCalcreator 2.22//
CALSCALE:GREGORIAN
METHOD:PUBLISH
X-WR-TIMEZONE:Europe/Berlin
BEGIN:VEVENT
UID:20260422T205302CEST-7732V03OFd@www.reinach-bl.ch
DTSTAMP:20260422T185302Z
DESCRIPTION:Klicken Sie auf den folgenden Link\, um weitere Informationen z
 ur Veranstaltung zu erhalten:\nhttp://www.reinach-bl.ch/de/veranstaltungen
 /detail/detail.php?i=10923
DTSTART:20261024T090000
DTEND:20261024T123000
LOCATION:
SUMMARY:32. Baselbieter Naturschutztag
END:VEVENT
END:VCALENDAR
