BEGIN:VCALENDAR
VERSION:2.0
PRODID:-//www.reinach-bl.ch//NONSGML kigkonsult.se iCalcreator 2.22//
CALSCALE:GREGORIAN
METHOD:PUBLISH
X-WR-TIMEZONE:Europe/Berlin
BEGIN:VEVENT
UID:20260422T205220CEST-9867xwu0gf@www.reinach-bl.ch
DTSTAMP:20260422T185220Z
DESCRIPTION:Klicken Sie auf den folgenden Link\, um weitere Informationen z
 ur Veranstaltung zu erhalten:\nhttp://www.reinach-bl.ch/de/veranstaltungen
 /detail/detail.php?i=10918
DTSTART:20260815T090000
DTEND:20260815T123000
LOCATION:
SUMMARY:Aufwertung im Bantel
END:VEVENT
END:VCALENDAR
