BEGIN:VCALENDAR
VERSION:2.0
PRODID:-//www.reinach-bl.ch//NONSGML kigkonsult.se iCalcreator 2.22//
CALSCALE:GREGORIAN
METHOD:PUBLISH
X-WR-TIMEZONE:Europe/Berlin
BEGIN:VEVENT
UID:20260422T204956CEST-0041zuURer@www.reinach-bl.ch
DTSTAMP:20260422T184956Z
DESCRIPTION:Klicken Sie auf den folgenden Link\, um weitere Informationen z
 ur Veranstaltung zu erhalten:\nhttp://www.reinach-bl.ch/de/veranstaltungen
 /detail/detail.php?i=10828
DTSTART:20260812T093000
DTEND:20260812T101500
LOCATION:
SUMMARY:Mir laufe zämme
END:VEVENT
END:VCALENDAR
