BEGIN:VCALENDAR
VERSION:2.0
PRODID:-//www.reinach-bl.ch//NONSGML kigkonsult.se iCalcreator 2.22//
CALSCALE:GREGORIAN
METHOD:PUBLISH
X-WR-TIMEZONE:Europe/Berlin
BEGIN:VEVENT
UID:20260422T205006CEST-7557a3mi1w@www.reinach-bl.ch
DTSTAMP:20260422T185006Z
DESCRIPTION:Klicken Sie auf den folgenden Link\, um weitere Informationen z
 ur Veranstaltung zu erhalten:\nhttp://www.reinach-bl.ch/de/veranstaltungen
 /detail/detail.php?i=10823
DTSTART:20260708T093000
DTEND:20260708T101500
LOCATION:
SUMMARY:Mir laufe zämme
END:VEVENT
END:VCALENDAR
