BEGIN:VCALENDAR
VERSION:2.0
PRODID:-//www.reinach-bl.ch//NONSGML kigkonsult.se iCalcreator 2.22//
CALSCALE:GREGORIAN
METHOD:PUBLISH
X-WR-TIMEZONE:Europe/Berlin
BEGIN:VEVENT
UID:20260422T205048CEST-2309f2dWux@www.reinach-bl.ch
DTSTAMP:20260422T185048Z
DESCRIPTION:Klicken Sie auf den folgenden Link\, um weitere Informationen z
 ur Veranstaltung zu erhalten:\nhttp://www.reinach-bl.ch/de/veranstaltungen
 /detail/detail.php?i=10793
DTSTART:20260530T193000
DTEND:20260530T210000
LOCATION:Neues Theater Dornach
SUMMARY:Ohne Rolf mit «Unter Druck»
END:VEVENT
END:VCALENDAR
