BEGIN:VCALENDAR
VERSION:2.0
PRODID:-//www.reinach-bl.ch//NONSGML kigkonsult.se iCalcreator 2.22//
CALSCALE:GREGORIAN
METHOD:PUBLISH
X-WR-TIMEZONE:Europe/Berlin
BEGIN:VEVENT
UID:20260422T140808CEST-63811ssP9x@www.reinach-bl.ch
DTSTAMP:20260422T120808Z
DESCRIPTION:Klicken Sie auf den folgenden Link\, um weitere Informationen z
 ur Veranstaltung zu erhalten:\nhttp://www.reinach-bl.ch/de/veranstaltungen
 /detail/detail.php?i=10785
DTSTART:20260424T193000
DTEND:20260424T210000
LOCATION:Neues Theater Dornach
SUMMARY:Zum Beispiel Wölfe
END:VEVENT
END:VCALENDAR
