BEGIN:VCALENDAR
VERSION:2.0
PRODID:-//www.reinach-bl.ch//NONSGML kigkonsult.se iCalcreator 2.22//
CALSCALE:GREGORIAN
METHOD:PUBLISH
X-WR-TIMEZONE:Europe/Berlin
BEGIN:VEVENT
UID:20260421T103640CEST-10440lb5uV@www.reinach-bl.ch
DTSTAMP:20260421T083640Z
DESCRIPTION:Klicken Sie auf den folgenden Link\, um weitere Informationen z
 ur Veranstaltung zu erhalten:\nhttp://www.reinach-bl.ch/de/veranstaltungen
 /detail/detail.php?i=10641
DTSTART:20260311T140000
DTEND:20260311T160000
LOCATION:Jugendhaus Palais noir
SUMMARY:Boys* Treff im Jugendhaus
END:VEVENT
END:VCALENDAR
