BEGIN:VCALENDAR
VERSION:2.0
PRODID:-//www.reinach-bl.ch//NONSGML kigkonsult.se iCalcreator 2.22//
CALSCALE:GREGORIAN
METHOD:PUBLISH
X-WR-TIMEZONE:Europe/Berlin
BEGIN:VEVENT
UID:20260422T205118CEST-0307Ex24Ra@www.reinach-bl.ch
DTSTAMP:20260422T185118Z
DESCRIPTION:Klicken Sie auf den folgenden Link\, um weitere Informationen z
 ur Veranstaltung zu erhalten:\nhttp://www.reinach-bl.ch/de/veranstaltungen
 /detail/detail.php?i=10628
DTSTART:20261115T170000
DTEND:20261115T190000
LOCATION:Katholische Kirche St. Nikolaus
SUMMARY:Herbstkonzert Orchester Reinach
END:VEVENT
END:VCALENDAR
