BEGIN:VCALENDAR
VERSION:2.0
PRODID:-//www.reinach-bl.ch//NONSGML kigkonsult.se iCalcreator 2.22//
CALSCALE:GREGORIAN
METHOD:PUBLISH
X-WR-TIMEZONE:Europe/Berlin
BEGIN:VEVENT
UID:20260421T114633CEST-7377loGd8t@www.reinach-bl.ch
DTSTAMP:20260421T094633Z
DESCRIPTION:Klicken Sie auf den folgenden Link\, um weitere Informationen z
 ur Veranstaltung zu erhalten:\nhttp://www.reinach-bl.ch/de/veranstaltungen
 /detail/detail.php?i=10660
DTSTART:20260421T160000
DTEND:20260421T200000
LOCATION:Jugendhaus Palais noir
SUMMARY:Palais z'Nacht für Jugendliche
END:VEVENT
END:VCALENDAR
